BEGIN:VCALENDAR
VERSION:2.0
PRODID:-//ChamberMaster//Event Calendar 2.0//EN
METHOD:PUBLISH
X-PUBLISHED-TTL:P3D
REFRESH-INTERVAL:P3D
CALSCALE:GREGORIAN
BEGIN:VEVENT
DTSTART:20210421T230000Z
DTEND:20210422T000000Z
X-MICROSOFT-CDO-ALLDAYEVENT:FALSE
SUMMARY:Confident Beginnings Q&A
DESCRIPTION:You have questions about starting a new chapter in our community. Get your answers straight from the source! Join us via Zoom for the Confident Beginnings Question and Answer virtual event to experience an authentic perspective on what it's like to make our community your new home. Ask all your questions in a casual\, open-format session\, and learn from current residents what they wish they would've asked before making the transition to senior living. Special guests will be Dawn Schaper\, Executive Director and Desset Tadasse\, Health & Wellness Director of Brookdale Admiral Heights!
X-ALT-DESC;FMTTYPE=text/html:<br />\n<span style="font-size:16px\;"><span style="font-family:tahoma\;">You have questions about starting a new chapter in our community. Get your answers straight from the source! Join us via Zoom for the<strong> Confident Beginnings Question and Answer </strong>virtual event to experience an authentic perspective on what it&#39\;s like to make our community your new home. Ask all your questions in a casual\, open-format session\, and learn from current residents what they wish they would&#39\;ve asked before making the transition to senior living. <span style="background-color:#FFFFE0">Special guests will be Dawn Schaper\, Executive Director and Desset Tadasse\, Health &amp\; Wellness Director of Brookdale Admiral Heights!</span></span></span>
LOCATION:Register in advance for this webinar: https://brookdale.zoom.us/webinar/register/WN_OzuV07Y1S0yO8JAPhOOmKw After registering\, you will receive a confirmation email containing information about joining the webinar.
UID:e.1229.3263
SEQUENCE:3
DTSTAMP:20260423T095509Z
URL:http://wschamber.chambermaster.com/events/details/confident-beginnings-q-a-3263
END:VEVENT

END:VCALENDAR
